BEGIN:VCALENDAR
VERSION:2.0
PRODID:-//Blackberry House Day Nursery - ECPv6.15.17//NONSGML v1.0//EN
CALSCALE:GREGORIAN
METHOD:PUBLISH
X-ORIGINAL-URL:https://blackberryhousedaynursery.co.uk
X-WR-CALDESC:Events for Blackberry House Day Nursery
REFRESH-INTERVAL;VALUE=DURATION:PT1H
X-Robots-Tag:noindex
X-PUBLISHED-TTL:PT1H
BEGIN:VTIMEZONE
TZID:UTC
BEGIN:STANDARD
TZOFFSETFROM:+0000
TZOFFSETTO:+0000
TZNAME:UTC
DTSTART:20230101T000000
END:STANDARD
END:VTIMEZONE
BEGIN:VEVENT
DTSTART;TZID=UTC:20241028T080000
DTEND;TZID=UTC:20241101T170000
DTSTAMP:20260419T171510
CREATED:20241104T100308Z
LAST-MODIFIED:20241104T100308Z
UID:12007-1730102400-1730480400@blackberryhousedaynursery.co.uk
SUMMARY:Term Time Half Term
DESCRIPTION:
URL:https://blackberryhousedaynursery.co.uk/event/term-time-half-term-6/
END:VEVENT
END:VCALENDAR