BEGIN:VCALENDAR
VERSION:2.0
PRODID:-//Blackberry House Day Nursery - ECPv6.15.17//NONSGML v1.0//EN
CALSCALE:GREGORIAN
METHOD:PUBLISH
X-ORIGINAL-URL:https://blackberryhousedaynursery.co.uk
X-WR-CALDESC:Events for Blackberry House Day Nursery
REFRESH-INTERVAL;VALUE=DURATION:PT1H
X-Robots-Tag:noindex
X-PUBLISHED-TTL:PT1H
BEGIN:VTIMEZONE
TZID:UTC
BEGIN:STANDARD
TZOFFSETFROM:+0000
TZOFFSETTO:+0000
TZNAME:UTC
DTSTART:20230101T000000
END:STANDARD
END:VTIMEZONE
BEGIN:VEVENT
DTSTART;VALUE=DATE:20240902
DTEND;VALUE=DATE:20240903
DTSTAMP:20260419T183422
CREATED:20241104T095753Z
LAST-MODIFIED:20241104T095753Z
UID:11999-1725235200-1725321599@blackberryhousedaynursery.co.uk
SUMMARY:Non-Funded - Term Start Date
DESCRIPTION:
URL:https://blackberryhousedaynursery.co.uk/event/non-funded-term-start-date-2/
END:VEVENT
BEGIN:VEVENT
DTSTART;VALUE=DATE:20240902
DTEND;VALUE=DATE:20240903
DTSTAMP:20260419T183422
CREATED:20241104T095909Z
LAST-MODIFIED:20241104T095909Z
UID:12001-1725235200-1725321599@blackberryhousedaynursery.co.uk
SUMMARY:Stretched Funding - Term Start Date
DESCRIPTION:
URL:https://blackberryhousedaynursery.co.uk/event/stretched-funding-term-start-date-4/
END:VEVENT
BEGIN:VEVENT
DTSTART;VALUE=DATE:20240902
DTEND;VALUE=DATE:20240903
DTSTAMP:20260419T183422
CREATED:20241104T100149Z
LAST-MODIFIED:20241104T100149Z
UID:12005-1725235200-1725321599@blackberryhousedaynursery.co.uk
SUMMARY:Term Time Only - Term Start Date
DESCRIPTION:
URL:https://blackberryhousedaynursery.co.uk/event/term-time-only-term-start-date-4/
END:VEVENT
END:VCALENDAR