BEGIN:VCALENDAR
VERSION:2.0
PRODID:-//Blackberry House Day Nursery - ECPv6.15.17//NONSGML v1.0//EN
CALSCALE:GREGORIAN
METHOD:PUBLISH
X-WR-CALNAME:Blackberry House Day Nursery
X-ORIGINAL-URL:https://blackberryhousedaynursery.co.uk
X-WR-CALDESC:Events for Blackberry House Day Nursery
REFRESH-INTERVAL;VALUE=DURATION:PT1H
X-Robots-Tag:noindex
X-PUBLISHED-TTL:PT1H
BEGIN:VTIMEZONE
TZID:UTC
BEGIN:STANDARD
TZOFFSETFROM:+0000
TZOFFSETTO:+0000
TZNAME:UTC
DTSTART:20230101T000000
END:STANDARD
END:VTIMEZONE
BEGIN:VEVENT
DTSTART;VALUE=DATE:20240601
DTEND;VALUE=DATE:20240602
DTSTAMP:20260417T115357
CREATED:20240214T123400Z
LAST-MODIFIED:20240214T123400Z
UID:11552-1717200000-1717286399@blackberryhousedaynursery.co.uk
SUMMARY:International Dinosaur Day
DESCRIPTION:
URL:https://blackberryhousedaynursery.co.uk/event/international-dinosaur-day/
END:VEVENT
BEGIN:VEVENT
DTSTART;VALUE=DATE:20240603
DTEND;VALUE=DATE:20240604
DTSTAMP:20260417T115357
CREATED:20240214T123509Z
LAST-MODIFIED:20240214T123509Z
UID:11554-1717372800-1717459199@blackberryhousedaynursery.co.uk
SUMMARY:World Bicycle Day
DESCRIPTION:
URL:https://blackberryhousedaynursery.co.uk/event/world-bicycle-day/
END:VEVENT
BEGIN:VEVENT
DTSTART;VALUE=DATE:20240605
DTEND;VALUE=DATE:20240606
DTSTAMP:20260417T115357
CREATED:20240214T123600Z
LAST-MODIFIED:20240214T123600Z
UID:11556-1717545600-1717631999@blackberryhousedaynursery.co.uk
SUMMARY:World Environment Day
DESCRIPTION:
URL:https://blackberryhousedaynursery.co.uk/event/world-environment-day-2/
END:VEVENT
BEGIN:VEVENT
DTSTART;VALUE=DATE:20240608
DTEND;VALUE=DATE:20240609
DTSTAMP:20260417T115357
CREATED:20240214T123721Z
LAST-MODIFIED:20240214T123721Z
UID:11558-1717804800-1717891199@blackberryhousedaynursery.co.uk
SUMMARY:World Oceans Day
DESCRIPTION:
URL:https://blackberryhousedaynursery.co.uk/event/world-oceans-day/
END:VEVENT
BEGIN:VEVENT
DTSTART;TZID=UTC:20240610T080000
DTEND;TZID=UTC:20240614T170000
DTSTAMP:20260417T115357
CREATED:20240214T123816Z
LAST-MODIFIED:20240214T123816Z
UID:11560-1718006400-1718384400@blackberryhousedaynursery.co.uk
SUMMARY:Healthy Eating Week
DESCRIPTION:
URL:https://blackberryhousedaynursery.co.uk/event/healthy-eating-week/
END:VEVENT
BEGIN:VEVENT
DTSTART;VALUE=DATE:20240616
DTEND;VALUE=DATE:20240617
DTSTAMP:20260417T115357
CREATED:20240214T123854Z
LAST-MODIFIED:20240214T123854Z
UID:11562-1718496000-1718582399@blackberryhousedaynursery.co.uk
SUMMARY:Father's Day
DESCRIPTION:
URL:https://blackberryhousedaynursery.co.uk/event/fathers-day-2/
END:VEVENT
BEGIN:VEVENT
DTSTART;VALUE=DATE:20240617
DTEND;VALUE=DATE:20240618
DTSTAMP:20260417T115357
CREATED:20240214T123941Z
LAST-MODIFIED:20240214T123941Z
UID:11564-1718582400-1718668799@blackberryhousedaynursery.co.uk
SUMMARY:Eat your veg Day
DESCRIPTION:
URL:https://blackberryhousedaynursery.co.uk/event/eat-your-veg-day/
END:VEVENT
BEGIN:VEVENT
DTSTART;TZID=UTC:20240617T080000
DTEND;TZID=UTC:20240623T170000
DTSTAMP:20260417T115357
CREATED:20240214T124219Z
LAST-MODIFIED:20240214T124219Z
UID:11570-1718611200-1719162000@blackberryhousedaynursery.co.uk
SUMMARY:National School Sport Week
DESCRIPTION:
URL:https://blackberryhousedaynursery.co.uk/event/national-school-sport-week/
END:VEVENT
BEGIN:VEVENT
DTSTART;VALUE=DATE:20240618
DTEND;VALUE=DATE:20240619
DTSTAMP:20260417T115357
CREATED:20240214T124030Z
LAST-MODIFIED:20240214T124030Z
UID:11566-1718668800-1718755199@blackberryhousedaynursery.co.uk
SUMMARY:International Picnic Day
DESCRIPTION:
URL:https://blackberryhousedaynursery.co.uk/event/international-picnic-day/
END:VEVENT
BEGIN:VEVENT
DTSTART;VALUE=DATE:20240621
DTEND;VALUE=DATE:20240622
DTSTAMP:20260417T115357
CREATED:20240214T124119Z
LAST-MODIFIED:20240214T124119Z
UID:11568-1718928000-1719014399@blackberryhousedaynursery.co.uk
SUMMARY:World Music Day
DESCRIPTION:
URL:https://blackberryhousedaynursery.co.uk/event/world-music-day/
END:VEVENT
BEGIN:VEVENT
DTSTART;VALUE=DATE:20240624
DTEND;VALUE=DATE:20240625
DTSTAMP:20260417T115357
CREATED:20240214T124825Z
LAST-MODIFIED:20240214T124825Z
UID:11572-1719187200-1719273599@blackberryhousedaynursery.co.uk
SUMMARY:International Fairy Day
DESCRIPTION:
URL:https://blackberryhousedaynursery.co.uk/event/international-fairy-day/
END:VEVENT
END:VCALENDAR