BEGIN:VCALENDAR
VERSION:2.0
PRODID:-//Blackberry House Day Nursery - ECPv6.15.17//NONSGML v1.0//EN
CALSCALE:GREGORIAN
METHOD:PUBLISH
X-WR-CALNAME:Blackberry House Day Nursery
X-ORIGINAL-URL:https://blackberryhousedaynursery.co.uk
X-WR-CALDESC:Events for Blackberry House Day Nursery
REFRESH-INTERVAL;VALUE=DURATION:PT1H
X-Robots-Tag:noindex
X-PUBLISHED-TTL:PT1H
BEGIN:VTIMEZONE
TZID:UTC
BEGIN:STANDARD
TZOFFSETFROM:+0000
TZOFFSETTO:+0000
TZNAME:UTC
DTSTART:20230101T000000
END:STANDARD
END:VTIMEZONE
BEGIN:VEVENT
DTSTART;VALUE=DATE:20240505
DTEND;VALUE=DATE:20240506
DTSTAMP:20260420T001355
CREATED:20240214T121245Z
LAST-MODIFIED:20240214T121245Z
UID:11540-1714867200-1714953599@blackberryhousedaynursery.co.uk
SUMMARY:World Laughter Day
DESCRIPTION:
URL:https://blackberryhousedaynursery.co.uk/event/world-laughter-day/
END:VEVENT
BEGIN:VEVENT
DTSTART;VALUE=DATE:20240512
DTEND;VALUE=DATE:20240513
DTSTAMP:20260420T001355
CREATED:20240214T121514Z
LAST-MODIFIED:20240214T121514Z
UID:11542-1715472000-1715558399@blackberryhousedaynursery.co.uk
SUMMARY:Children's Day
DESCRIPTION:
URL:https://blackberryhousedaynursery.co.uk/event/childrens-day/
END:VEVENT
BEGIN:VEVENT
DTSTART;VALUE=DATE:20240517
DTEND;VALUE=DATE:20240518
DTSTAMP:20260420T001355
CREATED:20240214T121700Z
LAST-MODIFIED:20240214T121700Z
UID:11544-1715904000-1715990399@blackberryhousedaynursery.co.uk
SUMMARY:Endangered Species Day
DESCRIPTION:
URL:https://blackberryhousedaynursery.co.uk/event/endangered-species-day/
END:VEVENT
BEGIN:VEVENT
DTSTART;TZID=UTC:20240520T080000
DTEND;TZID=UTC:20240524T170000
DTSTAMP:20260420T001355
CREATED:20240214T123033Z
LAST-MODIFIED:20240214T123033Z
UID:11546-1716192000-1716570000@blackberryhousedaynursery.co.uk
SUMMARY:Walk to School Week
DESCRIPTION:
URL:https://blackberryhousedaynursery.co.uk/event/walk-to-school-week/
END:VEVENT
BEGIN:VEVENT
DTSTART;VALUE=DATE:20240522
DTEND;VALUE=DATE:20240523
DTSTAMP:20260420T001355
CREATED:20240214T123210Z
LAST-MODIFIED:20240214T123210Z
UID:11548-1716336000-1716422399@blackberryhousedaynursery.co.uk
SUMMARY:National Numeracy Day
DESCRIPTION:
URL:https://blackberryhousedaynursery.co.uk/event/national-numeracy-day/
END:VEVENT
BEGIN:VEVENT
DTSTART;VALUE=DATE:20240523
DTEND;VALUE=DATE:20240524
DTSTAMP:20260420T001355
CREATED:20240214T123316Z
LAST-MODIFIED:20240214T123316Z
UID:11550-1716422400-1716508799@blackberryhousedaynursery.co.uk
SUMMARY:Outdoor Classroom Day
DESCRIPTION:
URL:https://blackberryhousedaynursery.co.uk/event/outdoor-classroom-day/
END:VEVENT
BEGIN:VEVENT
DTSTART;TZID=UTC:20240527T080000
DTEND;TZID=UTC:20240531T170000
DTSTAMP:20260420T001355
CREATED:20230830T154322Z
LAST-MODIFIED:20230830T154322Z
UID:9531-1716796800-1717174800@blackberryhousedaynursery.co.uk
SUMMARY:Term Time Half Term
DESCRIPTION:
URL:https://blackberryhousedaynursery.co.uk/event/term-time-half-term-5/
END:VEVENT
END:VCALENDAR