BEGIN:VCALENDAR
VERSION:2.0
PRODID:-//Blackberry House Day Nursery - ECPv6.15.17//NONSGML v1.0//EN
CALSCALE:GREGORIAN
METHOD:PUBLISH
X-ORIGINAL-URL:https://blackberryhousedaynursery.co.uk
X-WR-CALDESC:Events for Blackberry House Day Nursery
REFRESH-INTERVAL;VALUE=DURATION:PT1H
X-Robots-Tag:noindex
X-PUBLISHED-TTL:PT1H
BEGIN:VTIMEZONE
TZID:UTC
BEGIN:STANDARD
TZOFFSETFROM:+0000
TZOFFSETTO:+0000
TZNAME:UTC
DTSTART:20230101T000000
END:STANDARD
END:VTIMEZONE
BEGIN:VEVENT
DTSTART;VALUE=DATE:20240301
DTEND;VALUE=DATE:20240302
DTSTAMP:20260415T192755
CREATED:20240214T111750Z
LAST-MODIFIED:20240214T111750Z
UID:11492-1709251200-1709337599@blackberryhousedaynursery.co.uk
SUMMARY:St. David's Day
DESCRIPTION:
URL:https://blackberryhousedaynursery.co.uk/event/st-davids-day/
END:VEVENT
BEGIN:VEVENT
DTSTART;VALUE=DATE:20240303
DTEND;VALUE=DATE:20240304
DTSTAMP:20260415T192755
CREATED:20240214T111841Z
LAST-MODIFIED:20240214T111841Z
UID:11494-1709424000-1709510399@blackberryhousedaynursery.co.uk
SUMMARY:World Wildlife Day
DESCRIPTION:
URL:https://blackberryhousedaynursery.co.uk/event/world-wildlife-day/
END:VEVENT
BEGIN:VEVENT
DTSTART;VALUE=DATE:20240307
DTEND;VALUE=DATE:20240308
DTSTAMP:20260415T192755
CREATED:20240214T111929Z
LAST-MODIFIED:20240214T111929Z
UID:11496-1709769600-1709855999@blackberryhousedaynursery.co.uk
SUMMARY:World Book Day
DESCRIPTION:
URL:https://blackberryhousedaynursery.co.uk/event/world-book-day-3/
END:VEVENT
BEGIN:VEVENT
DTSTART;VALUE=DATE:20240310
DTEND;VALUE=DATE:20240311
DTSTAMP:20260415T192755
CREATED:20240214T112240Z
LAST-MODIFIED:20240214T112240Z
UID:11498-1710028800-1710115199@blackberryhousedaynursery.co.uk
SUMMARY:Mother's Day
DESCRIPTION:
URL:https://blackberryhousedaynursery.co.uk/event/mothers-day/
END:VEVENT
BEGIN:VEVENT
DTSTART;VALUE=DATE:20240310
DTEND;VALUE=DATE:20240311
DTSTAMP:20260415T192755
CREATED:20240214T112552Z
LAST-MODIFIED:20240214T112552Z
UID:11500-1710028800-1710115199@blackberryhousedaynursery.co.uk
SUMMARY:First Day of Ramadan
DESCRIPTION:
URL:https://blackberryhousedaynursery.co.uk/event/first-day-of-ramadan-2/
END:VEVENT
BEGIN:VEVENT
DTSTART;TZID=UTC:20240311T080000
DTEND;TZID=UTC:20240317T170000
DTSTAMP:20260415T192755
CREATED:20240214T112905Z
LAST-MODIFIED:20240214T112905Z
UID:11502-1710144000-1710694800@blackberryhousedaynursery.co.uk
SUMMARY:Nutrition and Hydration Week
DESCRIPTION:
URL:https://blackberryhousedaynursery.co.uk/event/nutrition-and-hydration-week/
END:VEVENT
BEGIN:VEVENT
DTSTART;VALUE=DATE:20240315
DTEND;VALUE=DATE:20240316
DTSTAMP:20260415T192755
CREATED:20240214T113044Z
LAST-MODIFIED:20240214T113044Z
UID:11504-1710460800-1710547199@blackberryhousedaynursery.co.uk
SUMMARY:Red Nose Day
DESCRIPTION:
URL:https://blackberryhousedaynursery.co.uk/event/red-nose-day-2/
END:VEVENT
BEGIN:VEVENT
DTSTART;VALUE=DATE:20240317
DTEND;VALUE=DATE:20240318
DTSTAMP:20260415T192755
CREATED:20240214T113711Z
LAST-MODIFIED:20240214T113711Z
UID:11506-1710633600-1710719999@blackberryhousedaynursery.co.uk
SUMMARY:St. Patrick's Day
DESCRIPTION:
URL:https://blackberryhousedaynursery.co.uk/event/st-patricks-day/
END:VEVENT
BEGIN:VEVENT
DTSTART;VALUE=DATE:20240318
DTEND;VALUE=DATE:20240319
DTSTAMP:20260415T192755
CREATED:20240214T113926Z
LAST-MODIFIED:20240214T113926Z
UID:11508-1710720000-1710806399@blackberryhousedaynursery.co.uk
SUMMARY:Global Recycling Day
DESCRIPTION:
URL:https://blackberryhousedaynursery.co.uk/event/global-recycling-day/
END:VEVENT
BEGIN:VEVENT
DTSTART;VALUE=DATE:20240320
DTEND;VALUE=DATE:20240321
DTSTAMP:20260415T192755
CREATED:20240214T115309Z
LAST-MODIFIED:20240214T115309Z
UID:11510-1710892800-1710979199@blackberryhousedaynursery.co.uk
SUMMARY:World Oral Health Day
DESCRIPTION:
URL:https://blackberryhousedaynursery.co.uk/event/world-oral-health-day/
END:VEVENT
BEGIN:VEVENT
DTSTART;TZID=UTC:20240321T080000
DTEND;TZID=UTC:20240321T170000
DTSTAMP:20260415T192755
CREATED:20240214T115512Z
LAST-MODIFIED:20240214T115512Z
UID:11514-1711008000-1711040400@blackberryhousedaynursery.co.uk
SUMMARY:International Colour Day
DESCRIPTION:
URL:https://blackberryhousedaynursery.co.uk/event/international-colour-day/
END:VEVENT
BEGIN:VEVENT
DTSTART;VALUE=DATE:20240322
DTEND;VALUE=DATE:20240323
DTSTAMP:20260415T192755
CREATED:20240214T115657Z
LAST-MODIFIED:20240214T115657Z
UID:11516-1711065600-1711151999@blackberryhousedaynursery.co.uk
SUMMARY:World Water Day
DESCRIPTION:
URL:https://blackberryhousedaynursery.co.uk/event/world-water-day/
END:VEVENT
BEGIN:VEVENT
DTSTART;VALUE=DATE:20240328
DTEND;VALUE=DATE:20240329
DTSTAMP:20260415T192755
CREATED:20230830T152415Z
LAST-MODIFIED:20230830T152415Z
UID:9515-1711584000-1711670399@blackberryhousedaynursery.co.uk
SUMMARY:Stretched Funding End Date
DESCRIPTION:
URL:https://blackberryhousedaynursery.co.uk/event/stretched-funding-end-date-3/
END:VEVENT
BEGIN:VEVENT
DTSTART;VALUE=DATE:20240328
DTEND;VALUE=DATE:20240329
DTSTAMP:20260415T192755
CREATED:20230830T152654Z
LAST-MODIFIED:20230830T152654Z
UID:9521-1711584000-1711670399@blackberryhousedaynursery.co.uk
SUMMARY:Term Time Funding End Date
DESCRIPTION:
URL:https://blackberryhousedaynursery.co.uk/event/term-time-funding-end-date-2/
END:VEVENT
BEGIN:VEVENT
DTSTART;TZID=UTC:20240329T080000
DTEND;TZID=UTC:20240331T170000
DTSTAMP:20260415T192755
CREATED:20240214T120054Z
LAST-MODIFIED:20240214T120054Z
UID:11518-1711699200-1711904400@blackberryhousedaynursery.co.uk
SUMMARY:Easter Weekend
DESCRIPTION:
URL:https://blackberryhousedaynursery.co.uk/event/easter-weekend/
END:VEVENT
END:VCALENDAR