BEGIN:VCALENDAR
VERSION:2.0
PRODID:-//Blackberry House Day Nursery - ECPv6.15.17//NONSGML v1.0//EN
CALSCALE:GREGORIAN
METHOD:PUBLISH
X-WR-CALNAME:Blackberry House Day Nursery
X-ORIGINAL-URL:https://blackberryhousedaynursery.co.uk
X-WR-CALDESC:Events for Blackberry House Day Nursery
REFRESH-INTERVAL;VALUE=DURATION:PT1H
X-Robots-Tag:noindex
X-PUBLISHED-TTL:PT1H
BEGIN:VTIMEZONE
TZID:UTC
BEGIN:STANDARD
TZOFFSETFROM:+0000
TZOFFSETTO:+0000
TZNAME:UTC
DTSTART:20220101T000000
END:STANDARD
END:VTIMEZONE
BEGIN:VEVENT
DTSTART;TZID=UTC:20231225T080000
DTEND;TZID=UTC:20240101T170000
DTSTAMP:20260419T141914
CREATED:20230830T151351Z
LAST-MODIFIED:20230830T151351Z
UID:9511-1703491200-1704128400@blackberryhousedaynursery.co.uk
SUMMARY:Closure for Christmas
DESCRIPTION:
URL:https://blackberryhousedaynursery.co.uk/event/closure-for-christmas/
END:VEVENT
BEGIN:VEVENT
DTSTART;TZID=UTC:20240102T080000
DTEND;TZID=UTC:20240102T170000
DTSTAMP:20260419T141914
CREATED:20230830T152017Z
LAST-MODIFIED:20230830T152017Z
UID:9513-1704182400-1704214800@blackberryhousedaynursery.co.uk
SUMMARY:Re-Opening 2024
DESCRIPTION:
URL:https://blackberryhousedaynursery.co.uk/event/re-opening-2024/
END:VEVENT
BEGIN:VEVENT
DTSTART;VALUE=DATE:20240108
DTEND;VALUE=DATE:20240109
DTSTAMP:20260419T141914
CREATED:20230830T152513Z
LAST-MODIFIED:20230830T152513Z
UID:9517-1704672000-1704758399@blackberryhousedaynursery.co.uk
SUMMARY:Term Time Only Term Start Date
DESCRIPTION:
URL:https://blackberryhousedaynursery.co.uk/event/term-time-only-term-start-date-2/
END:VEVENT
END:VCALENDAR