BEGIN:VCALENDAR
VERSION:2.0
PRODID:-//Blackberry House Day Nursery - ECPv6.15.17//NONSGML v1.0//EN
CALSCALE:GREGORIAN
METHOD:PUBLISH
X-WR-CALNAME:Blackberry House Day Nursery
X-ORIGINAL-URL:https://blackberryhousedaynursery.co.uk
X-WR-CALDESC:Events for Blackberry House Day Nursery
REFRESH-INTERVAL;VALUE=DURATION:PT1H
X-Robots-Tag:noindex
X-PUBLISHED-TTL:PT1H
BEGIN:VTIMEZONE
TZID:UTC
BEGIN:STANDARD
TZOFFSETFROM:+0000
TZOFFSETTO:+0000
TZNAME:UTC
DTSTART:20220101T000000
END:STANDARD
END:VTIMEZONE
BEGIN:VEVENT
DTSTART;VALUE=DATE:20231201
DTEND;VALUE=DATE:20231202
DTSTAMP:20260415T190921
CREATED:20230411T150235Z
LAST-MODIFIED:20231220T162226Z
UID:9108-1701388800-1701475199@blackberryhousedaynursery.co.uk
SUMMARY:Advent Begins
DESCRIPTION:
URL:https://blackberryhousedaynursery.co.uk/event/advent-begins/
END:VEVENT
BEGIN:VEVENT
DTSTART;VALUE=DATE:20231206
DTEND;VALUE=DATE:20231207
DTSTAMP:20260415T190921
CREATED:20230411T150311Z
LAST-MODIFIED:20230411T150311Z
UID:9110-1701820800-1701907199@blackberryhousedaynursery.co.uk
SUMMARY:Saint Nicholas Day
DESCRIPTION:
URL:https://blackberryhousedaynursery.co.uk/event/saint-nicholas-day/
END:VEVENT
BEGIN:VEVENT
DTSTART;VALUE=DATE:20231207
DTEND;VALUE=DATE:20231216
DTSTAMP:20260415T190921
CREATED:20230411T150346Z
LAST-MODIFIED:20230411T151137Z
UID:9112-1701907200-1702684799@blackberryhousedaynursery.co.uk
SUMMARY:Hanukkah (Jewish)
DESCRIPTION:
URL:https://blackberryhousedaynursery.co.uk/event/hanukkah-jewish/
END:VEVENT
BEGIN:VEVENT
DTSTART;VALUE=DATE:20231208
DTEND;VALUE=DATE:20231209
DTSTAMP:20260415T190921
CREATED:20230411T150429Z
LAST-MODIFIED:20230411T150429Z
UID:9114-1701993600-1702079999@blackberryhousedaynursery.co.uk
SUMMARY:Christmas Jumper Day
DESCRIPTION:
URL:https://blackberryhousedaynursery.co.uk/event/christmas-jumper-day/
END:VEVENT
BEGIN:VEVENT
DTSTART;VALUE=DATE:20231213
DTEND;VALUE=DATE:20231214
DTSTAMP:20260415T190921
CREATED:20230411T150517Z
LAST-MODIFIED:20230411T150517Z
UID:9116-1702425600-1702511999@blackberryhousedaynursery.co.uk
SUMMARY:Winter Wonderland Event
DESCRIPTION:
URL:https://blackberryhousedaynursery.co.uk/event/winter-wonderland-event/
END:VEVENT
BEGIN:VEVENT
DTSTART;VALUE=DATE:20231215
DTEND;VALUE=DATE:20231216
DTSTAMP:20260415T190921
CREATED:20230830T150713Z
LAST-MODIFIED:20230830T150713Z
UID:9509-1702598400-1702684799@blackberryhousedaynursery.co.uk
SUMMARY:Term Time Funding End Date
DESCRIPTION:
URL:https://blackberryhousedaynursery.co.uk/event/term-time-funding-end-date/
END:VEVENT
BEGIN:VEVENT
DTSTART;VALUE=DATE:20231222
DTEND;VALUE=DATE:20231223
DTSTAMP:20260415T190921
CREATED:20230830T141236Z
LAST-MODIFIED:20230830T141236Z
UID:9495-1703203200-1703289599@blackberryhousedaynursery.co.uk
SUMMARY:Stretched Funding End Date
DESCRIPTION:
URL:https://blackberryhousedaynursery.co.uk/event/stretched-funding-end-date/
END:VEVENT
BEGIN:VEVENT
DTSTART;VALUE=DATE:20231222
DTEND;VALUE=DATE:20231223
DTSTAMP:20260415T190921
CREATED:20230830T144821Z
LAST-MODIFIED:20230830T144821Z
UID:9501-1703203200-1703289599@blackberryhousedaynursery.co.uk
SUMMARY:Stretched Funding End Date
DESCRIPTION:
URL:https://blackberryhousedaynursery.co.uk/event/stretched-funding-end-date-2/
END:VEVENT
BEGIN:VEVENT
DTSTART;VALUE=DATE:20231224
DTEND;VALUE=DATE:20231225
DTSTAMP:20260415T190921
CREATED:20230411T151227Z
LAST-MODIFIED:20230411T151227Z
UID:9118-1703376000-1703462399@blackberryhousedaynursery.co.uk
SUMMARY:Christmas Eve
DESCRIPTION:
URL:https://blackberryhousedaynursery.co.uk/event/christmas-eve/
END:VEVENT
BEGIN:VEVENT
DTSTART;VALUE=DATE:20231225
DTEND;VALUE=DATE:20231226
DTSTAMP:20260415T190921
CREATED:20230411T151318Z
LAST-MODIFIED:20230411T151318Z
UID:9120-1703462400-1703548799@blackberryhousedaynursery.co.uk
SUMMARY:Christmas Day
DESCRIPTION:
URL:https://blackberryhousedaynursery.co.uk/event/christmas-day/
END:VEVENT
BEGIN:VEVENT
DTSTART;TZID=UTC:20231225T080000
DTEND;TZID=UTC:20240101T170000
DTSTAMP:20260415T190921
CREATED:20230830T151351Z
LAST-MODIFIED:20230830T151351Z
UID:9511-1703491200-1704128400@blackberryhousedaynursery.co.uk
SUMMARY:Closure for Christmas
DESCRIPTION:
URL:https://blackberryhousedaynursery.co.uk/event/closure-for-christmas/
END:VEVENT
BEGIN:VEVENT
DTSTART;VALUE=DATE:20231226
DTEND;VALUE=DATE:20231227
DTSTAMP:20260415T190921
CREATED:20230411T151349Z
LAST-MODIFIED:20230411T151349Z
UID:9122-1703548800-1703635199@blackberryhousedaynursery.co.uk
SUMMARY:Boxing Day
DESCRIPTION:
URL:https://blackberryhousedaynursery.co.uk/event/boxing-day/
END:VEVENT
BEGIN:VEVENT
DTSTART;VALUE=DATE:20231231
DTEND;VALUE=DATE:20240101
DTSTAMP:20260415T190921
CREATED:20230411T151424Z
LAST-MODIFIED:20230411T151424Z
UID:9124-1703980800-1704067199@blackberryhousedaynursery.co.uk
SUMMARY:New Year's Eve
DESCRIPTION:
URL:https://blackberryhousedaynursery.co.uk/event/new-years-eve/
END:VEVENT
END:VCALENDAR