BEGIN:VCALENDAR
VERSION:2.0
PRODID:-//Blackberry House Day Nursery - ECPv6.15.17//NONSGML v1.0//EN
CALSCALE:GREGORIAN
METHOD:PUBLISH
X-WR-CALNAME:Blackberry House Day Nursery
X-ORIGINAL-URL:https://blackberryhousedaynursery.co.uk
X-WR-CALDESC:Events for Blackberry House Day Nursery
REFRESH-INTERVAL;VALUE=DURATION:PT1H
X-Robots-Tag:noindex
X-PUBLISHED-TTL:PT1H
BEGIN:VTIMEZONE
TZID:UTC
BEGIN:STANDARD
TZOFFSETFROM:+0000
TZOFFSETTO:+0000
TZNAME:UTC
DTSTART:20220101T000000
END:STANDARD
END:VTIMEZONE
BEGIN:VEVENT
DTSTART;VALUE=DATE:20231001
DTEND;VALUE=DATE:20231002
DTSTAMP:20260419T144153
CREATED:20230411T131108Z
LAST-MODIFIED:20230411T131346Z
UID:9082-1696118400-1696204799@blackberryhousedaynursery.co.uk
SUMMARY:Grandparent's Day
DESCRIPTION:
URL:https://blackberryhousedaynursery.co.uk/event/grandparents-day/
END:VEVENT
BEGIN:VEVENT
DTSTART;VALUE=DATE:20231004
DTEND;VALUE=DATE:20231005
DTSTAMP:20260419T144153
CREATED:20230411T131447Z
LAST-MODIFIED:20230411T131447Z
UID:9084-1696377600-1696463999@blackberryhousedaynursery.co.uk
SUMMARY:World Animal Day
DESCRIPTION:
URL:https://blackberryhousedaynursery.co.uk/event/world-animal-day/
END:VEVENT
BEGIN:VEVENT
DTSTART;TZID=UTC:20231004T080000
DTEND;TZID=UTC:20231005T170000
DTSTAMP:20260419T144153
CREATED:20230411T131541Z
LAST-MODIFIED:20230411T131541Z
UID:9086-1696406400-1696525200@blackberryhousedaynursery.co.uk
SUMMARY:Yom Kippur (Jewish)
DESCRIPTION:
URL:https://blackberryhousedaynursery.co.uk/event/yom-kippur-jewish/
END:VEVENT
BEGIN:VEVENT
DTSTART;TZID=UTC:20231004T080000
DTEND;TZID=UTC:20231010T170000
DTSTAMP:20260419T144153
CREATED:20230411T132010Z
LAST-MODIFIED:20230411T132010Z
UID:9088-1696406400-1696957200@blackberryhousedaynursery.co.uk
SUMMARY:World Space Week
DESCRIPTION:
URL:https://blackberryhousedaynursery.co.uk/event/world-space-week/
END:VEVENT
BEGIN:VEVENT
DTSTART;VALUE=DATE:20231005
DTEND;VALUE=DATE:20231006
DTSTAMP:20260419T144153
CREATED:20230411T132046Z
LAST-MODIFIED:20230411T132046Z
UID:9090-1696464000-1696550399@blackberryhousedaynursery.co.uk
SUMMARY:World Teachers Day
DESCRIPTION:
URL:https://blackberryhousedaynursery.co.uk/event/world-teachers-day/
END:VEVENT
BEGIN:VEVENT
DTSTART;VALUE=DATE:20231006
DTEND;VALUE=DATE:20231007
DTSTAMP:20260419T144153
CREATED:20230411T132112Z
LAST-MODIFIED:20230411T132112Z
UID:9092-1696550400-1696636799@blackberryhousedaynursery.co.uk
SUMMARY:World Smile Day
DESCRIPTION:
URL:https://blackberryhousedaynursery.co.uk/event/world-smile-day/
END:VEVENT
BEGIN:VEVENT
DTSTART;TZID=UTC:20231023T080000
DTEND;TZID=UTC:20231027T170000
DTSTAMP:20260419T144153
CREATED:20230830T145932Z
LAST-MODIFIED:20230830T150612Z
UID:9507-1698048000-1698426000@blackberryhousedaynursery.co.uk
SUMMARY:Term Time Half Term
DESCRIPTION:
URL:https://blackberryhousedaynursery.co.uk/event/term-time-half-term-3/
END:VEVENT
BEGIN:VEVENT
DTSTART;VALUE=DATE:20231025
DTEND;VALUE=DATE:20231026
DTSTAMP:20260419T144153
CREATED:20230411T132222Z
LAST-MODIFIED:20230411T132222Z
UID:9096-1698192000-1698278399@blackberryhousedaynursery.co.uk
SUMMARY:Blackberries Halloween Trick or Treat Event
DESCRIPTION:
URL:https://blackberryhousedaynursery.co.uk/event/blackberries-halloween-trick-or-treat-event/
END:VEVENT
BEGIN:VEVENT
DTSTART;VALUE=DATE:20231027
DTEND;VALUE=DATE:20231028
DTSTAMP:20260419T144153
CREATED:20230411T132143Z
LAST-MODIFIED:20230411T132143Z
UID:9094-1698364800-1698451199@blackberryhousedaynursery.co.uk
SUMMARY:Teddy Bear Day
DESCRIPTION:
URL:https://blackberryhousedaynursery.co.uk/event/teddy-bear-day/
END:VEVENT
END:VCALENDAR